BEGIN:VCALENDAR
VERSION:2.0
PRODID:-//wp-events-plugin.com//7.2.3.1//EN
TZID:America/New_York
X-WR-TIMEZONE:America/New_York
BEGIN:VEVENT
UID:1404@cbjplymouth.org
DTSTART;TZID=America/New_York:20260302T150000
DTEND;TZID=America/New_York:20260302T160000
DTSTAMP:20260115T024844Z
URL:https://www.cbjplymouth.org/events/social-justice-in-our-texts-monthly
 -study-session-zoom-only-2026-03-02
SUMMARY:Social Justice In Our Texts - Monthly study session - Zoom only
DESCRIPTION:"Social Justice in Our Texts” is a monthly\, free\, Zoom-base
 d program exploring how our Jewish sacred texts speak to today’s pressin
 g social issues such as reproductive rights\, climate change\, racial just
 ice\, poverty\, LGBTQ+ rights\, and so much more.  These classes are acce
 ssible\, deeply rooted in Jewish values and focused on some of the most im
 portant issues of our time.  All of the sessions are free and open to any
 one.  The classes are taught by our rabbis from across the liberal moveme
 nts.\n\nRegister at laasok.org/current-offerings/#justice\n\n
ATTACH;FMTTYPE=image/jpeg:https://www.cbjplymouth.org/wp-content/uploads/2
 026/01/ChatGPT-Image-For-Social-Justice-Series.png
CATEGORIES:Featured Events
END:VEVENT
BEGIN:VTIMEZONE
TZID:America/New_York
X-LIC-LOCATION:America/New_York
BEGIN:STANDARD
DTSTART:20251102T010000
TZOFFSETFROM:-0400
TZOFFSETTO:-0500
TZNAME:EST
END:STANDARD
END:VTIMEZONE
END:VCALENDAR