BEGIN:VCALENDAR
VERSION:2.0
PRODID:-//wp-events-plugin.com//7.2.3.1//EN
TZID:America/New_York
X-WR-TIMEZONE:America/New_York
BEGIN:VEVENT
UID:501@cbjplymouth.org
DTSTART;TZID=America/New_York:20231113T190000
DTEND;TZID=America/New_York:20231113T200000
DTSTAMP:20231019T021249Z
URL:https://www.cbjplymouth.org/events/sisterhood-meeting-3
SUMMARY:Sisterhood meeting
DESCRIPTION:Sisterhood meets on the second Monday each month at 7:00 pm.  
 All meetings are online via ZOOM.  The ZOOM link can be found in the CBJ 
 Weekly Update.
ATTACH;FMTTYPE=image/jpeg:https://www.cbjplymouth.org/wp-content/uploads/2
 023/07/sisterhood-thumb.jpg
END:VEVENT
BEGIN:VTIMEZONE
TZID:America/New_York
X-LIC-LOCATION:America/New_York
BEGIN:STANDARD
DTSTART:20231105T010000
TZOFFSETFROM:-0400
TZOFFSETTO:-0500
TZNAME:EST
END:STANDARD
END:VTIMEZONE
END:VCALENDAR