BEGIN:VCALENDAR
VERSION:2.0
PRODID:-//wp-events-plugin.com//7.2.3.1//EN
TZID:America/New_York
X-WR-TIMEZONE:America/New_York
BEGIN:VEVENT
UID:436@cbjplymouth.org
DTSTART;TZID=America/New_York:20230714T180000
DTEND;TZID=America/New_York:20230714T191500
DTSTAMP:20230629T013231Z
URL:https://www.cbjplymouth.org/events/pot-luck-supper-and-learners-servic
 e-at-the-temple-and-on-zoom
SUMMARY:Pot Luck Supper and Learner's Service at the Temple and on Zoom
DESCRIPTION:All are welcome to attend our Shabbat Services.\n\n&nbsp\;\n\n&
 nbsp\;\n\nEnjoy Shabbat Dinner with old and new friends.&nbsp\; Meet or be
 come better acquainted with other members of Congregation Beth Jacob. Star
 t the evening with a Pot Luck Supper in the Social Hall at 6 pm\, followed
  by a Shabbat Service at 7 pm.&nbsp\; The service will celebrate Pride Mon
 th and will also be available on Zoom.\nTo Sign Up: &nbsp\;Please rsvp to 
 rsvp@cbjplymouth.org .&nbsp\; Let us know how many will be coming for the 
 potluck and what you plan to bring.&nbsp\; The meal will be "Kosher style"
  Meat\, vegetarian or Pareve&nbsp\; (No milk\, pork or shellfish).\nFurthe
 r information and the Zoom link is available in our Weekly Update and the 
 Zoom link is also in the member only section of this website.&nbsp\; &nbsp
 \;If you need help\, contact Newsletter@cbjplymouth.org\n\n
ATTACH;FMTTYPE=image/jpeg:https://www.cbjplymouth.org/wp-content/uploads/2
 023/06/jul14.jpg
CATEGORIES:Featured Events
END:VEVENT
BEGIN:VTIMEZONE
TZID:America/New_York
X-LIC-LOCATION:America/New_York
BEGIN:DAYLIGHT
DTSTART:20230312T030000
TZOFFSETFROM:-0500
TZOFFSETTO:-0400
TZNAME:EDT
END:DAYLIGHT
END:VTIMEZONE
END:VCALENDAR