BEGIN:VCALENDAR
VERSION:2.0
PRODID:-//wp-events-plugin.com//7.2.3.1//EN
TZID:America/New_York
X-WR-TIMEZONE:America/New_York
BEGIN:VEVENT
UID:429@cbjplymouth.org
DTSTART;TZID=America/New_York:20230726T200000
DTEND;TZID=America/New_York:20230726T211500
DTSTAMP:20230706T210319Z
URL:https://www.cbjplymouth.org/events/observe-tisha-bav-by-zoom-2
SUMMARY:Tisha B'av Learning by Zoom
DESCRIPTION:On July 26th\, join Rabbi Mills and a cluster of her colleagues
  and their congregations to observe Tisha B'av\, a day of Jewish tragedy a
 nd loss. &nbsp\; We will gather on Zoom at 8 pm with communities from acro
 ss the country.&nbsp\;\n\nThe link https://urj.tfaforms.net/901?id=7014u00
 0001NUUO appears to have problems.\nWe will correct it here when new infor
 mation is received.\n\nAll are welcome to attend our On-Line Events held o
 n Zoom. The Zoom link will also be available in our Weekly Update. If you 
 need help\, contact Newsletter@cbjplymouth.org\n\n\n\n&nbsp\;
ATTACH;FMTTYPE=image/jpeg:https://www.cbjplymouth.org/wp-content/uploads/2
 022/07/tish600x400.jpg
CATEGORIES:Featured Events
END:VEVENT
BEGIN:VTIMEZONE
TZID:America/New_York
X-LIC-LOCATION:America/New_York
BEGIN:DAYLIGHT
DTSTART:20230312T030000
TZOFFSETFROM:-0500
TZOFFSETTO:-0400
TZNAME:EDT
END:DAYLIGHT
END:VTIMEZONE
END:VCALENDAR