BEGIN:VCALENDAR
VERSION:2.0
PRODID:-//wp-events-plugin.com//7.2.3.1//EN
TZID:America/New_York
X-WR-TIMEZONE:America/New_York
BEGIN:VEVENT
UID:115@cbjplymouth.org
DTSTART;TZID=America/New_York:20220119T200000
DTEND;TZID=America/New_York:20220119T210000
DTSTAMP:20211230T032033Z
URL:https://www.cbjplymouth.org/events/meet-the-author-andrew-feiler
SUMMARY:Meet the Author:  Andrew Feiler
DESCRIPTION:Join CBJ and about 25 other Reform congregations for a Zoom con
 versation with a Jewish author of a newly published book.\n\nThis session 
 will be A Talk with Andrew Feiler\, author of&nbsp\;A Better Life for Thei
 r Children: Julius Rosenwald\, Booker T. Washington\, and the 4\,978 Schoo
 ls that Changed America\n\nMore information and registration instructions 
 are in our Weekly Update and on our Adult Education page.
ATTACH;FMTTYPE=image/jpeg:https://www.cbjplymouth.org/wp-content/uploads/2
 021/11/Meet-the-Author.jpg
CATEGORIES:Featured Events
END:VEVENT
BEGIN:VTIMEZONE
TZID:America/New_York
X-LIC-LOCATION:America/New_York
BEGIN:STANDARD
DTSTART:20211107T010000
TZOFFSETFROM:-0400
TZOFFSETTO:-0500
TZNAME:EST
END:STANDARD
END:VTIMEZONE
END:VCALENDAR