BEGIN:VCALENDAR
VERSION:2.0
PRODID:-//wp-events-plugin.com//7.2.3.1//EN
TZID:America/New_York
X-WR-TIMEZONE:America/New_York
BEGIN:VEVENT
UID:870@cbjplymouth.org
DTSTART;TZID=America/New_York:20241207T100000
DTEND;TZID=America/New_York:20241207T113000
DTSTAMP:20241106T042737Z
URL:https://www.cbjplymouth.org/events/erev-shabbat-in-person-and-zoom-202
 4-12-06
SUMMARY:Shabbat morning service and Torah study - in Person and Zoom
DESCRIPTION:All are welcome to attend our Shabbat morning service with Tora
 h study.  This service will be both at our Temple and online via Zoom.  
 Join us in person and stay for an Oneg following the service\, or view the
  service and study remotely using Zoom.\n\nSee the Weekly Update for addit
 ional information and the Zoom link .  The Zoom link is also available in
  the member only section of this website.   If you need help\, contact N
 ewsletter@cbjplymouth.org
ATTACH;FMTTYPE=image/jpeg:https://www.cbjplymouth.org/wp-content/uploads/2
 022/10/celebrate-shabbat600x400-530.jpg
CATEGORIES:Featured Events
LOCATION:Congregation Beth Jacob\, 8 Pleasant Street\, Plymouth\, MA\, 0236
 0\, United States
X-APPLE-STRUCTURED-LOCATION;VALUE=URI;X-ADDRESS=8 Pleasant Street\, Plymout
 h\, MA\, 02360\, United States;X-APPLE-RADIUS=100;X-TITLE=Congregation Bet
 h Jacob:geo:0,0
END:VEVENT
BEGIN:VTIMEZONE
TZID:America/New_York
X-LIC-LOCATION:America/New_York
BEGIN:STANDARD
DTSTART:20241103T010000
TZOFFSETFROM:-0400
TZOFFSETTO:-0500
TZNAME:EST
END:STANDARD
END:VTIMEZONE
END:VCALENDAR