BEGIN:VCALENDAR
VERSION:2.0
PRODID:-//wp-events-plugin.com//7.2.3.1//EN
TZID:America/New_York
X-WR-TIMEZONE:America/New_York
BEGIN:VEVENT
UID:915@cbjplymouth.org
DTSTART;TZID=America/New_York:20250213T183000
DTEND;TZID=America/New_York:20250213T193000
DTSTAMP:20250202T161411Z
URL:https://www.cbjplymouth.org/events/adult-ed-course-heaven-hell-and-the
 -afterlife-according-to-judaism-2025-02-13
SUMMARY:Adult Ed Course: Heaven\, Hell\, and the Afterlife According to Jud
 aism
DESCRIPTION:Rabbi Mills will teach a three session course titled "Heaven\, 
 Hell \, and the Afterlife According to Judaism.  Class dates are Thursday
 s\, February 13\, 20\, and 27.  Registration is required.  RSVP to Rabbi
  Mills.  Her email address can be found in The Tent and at the CBJ websit
 e.
ATTACH;FMTTYPE=image/jpeg:https://www.cbjplymouth.org/wp-content/uploads/2
 024/02/Zoom_meeting_12-e1736291411993.jpg
CATEGORIES:Featured Events
END:VEVENT
BEGIN:VTIMEZONE
TZID:America/New_York
X-LIC-LOCATION:America/New_York
BEGIN:STANDARD
DTSTART:20241103T010000
TZOFFSETFROM:-0400
TZOFFSETTO:-0500
TZNAME:EST
END:STANDARD
END:VTIMEZONE
END:VCALENDAR